BEGIN:VCALENDAR
VERSION:2.0
PRODID:-//Champlain Library - ECPv6.15.20//NONSGML v1.0//EN
CALSCALE:GREGORIAN
METHOD:PUBLISH
X-WR-CALNAME:Champlain Library
X-ORIGINAL-URL:https://bc-cl.ca
X-WR-CALDESC:Events for Champlain Library
REFRESH-INTERVAL;VALUE=DURATION:PT1H
X-Robots-Tag:noindex
X-PUBLISHED-TTL:PT1H
BEGIN:VTIMEZONE
TZID:America/Toronto
BEGIN:DAYLIGHT
TZOFFSETFROM:-0500
TZOFFSETTO:-0400
TZNAME:EDT
DTSTART:20240310T070000
END:DAYLIGHT
BEGIN:STANDARD
TZOFFSETFROM:-0400
TZOFFSETTO:-0500
TZNAME:EST
DTSTART:20241103T060000
END:STANDARD
BEGIN:DAYLIGHT
TZOFFSETFROM:-0500
TZOFFSETTO:-0400
TZNAME:EDT
DTSTART:20250309T070000
END:DAYLIGHT
BEGIN:STANDARD
TZOFFSETFROM:-0400
TZOFFSETTO:-0500
TZNAME:EST
DTSTART:20251102T060000
END:STANDARD
BEGIN:DAYLIGHT
TZOFFSETFROM:-0500
TZOFFSETTO:-0400
TZNAME:EDT
DTSTART:20260308T070000
END:DAYLIGHT
BEGIN:STANDARD
TZOFFSETFROM:-0400
TZOFFSETTO:-0500
TZNAME:EST
DTSTART:20261101T060000
END:STANDARD
END:VTIMEZONE
BEGIN:VEVENT
DTSTART;TZID=America/Toronto:20250429T161500
DTEND;TZID=America/Toronto:20250429T170000
DTSTAMP:20260425T193650
CREATED:20240828T150712Z
LAST-MODIFIED:20240828T150712Z
UID:10001651-1745943300-1745946000@bc-cl.ca
SUMMARY:DIY Tween Craft
DESCRIPTION:Monthly Craft Day for Tweens and Teens! \nJoin us in the library’s activity room on the last Tuesday of every month for a fun craft session. Relax\, listen to music\, and let your creativity flow! \nFor ages 11 and up. Registration is required. Reserve your spot here.
URL:https://bc-cl.ca/event/diy-tween-craft-2/2025-04-29/
END:VEVENT
BEGIN:VEVENT
DTSTART;TZID=America/Toronto:20250429T100000
DTEND;TZID=America/Toronto:20250429T110000
DTSTAMP:20260425T193651
CREATED:20240828T143308Z
LAST-MODIFIED:20240828T143308Z
UID:10001438-1745920800-1745924400@bc-cl.ca
SUMMARY:Storytime
DESCRIPTION:Join Us for Bilingual Storytime! \nCome enjoy a special Storytime with our Children’s Librarian\, who will read books in both English and French. After the story\, children can enjoy snacks and a creative craft activity. Perfect for ages 0 to 5. Space is limited\, so be sure to arrive early!
URL:https://bc-cl.ca/event/storytime-4/2025-04-29/
END:VEVENT
BEGIN:VEVENT
DTSTART;TZID=America/Toronto:20250428T183000
DTEND;TZID=America/Toronto:20250428T194500
DTSTAMP:20260425T193651
CREATED:20250122T221814Z
LAST-MODIFIED:20250326T181218Z
UID:10001988-1745865000-1745869500@bc-cl.ca
SUMMARY:Astronomy Club
DESCRIPTION:Join our Astronomy Club\, which meets the last Monday of the month at the library to explore and discuss a new topic each time. Whether you’re a seasoned stargazer or just curious about the cosmos\, all are welcome to join the conversation. \nInterested in joining? Sign up here\, and a librarian will get in touch with you.
URL:https://bc-cl.ca/event/astronomy-club-5/2025-04-28/
END:VEVENT
END:VCALENDAR