BEGIN:VCALENDAR
VERSION:2.0
PRODID:-//Champlain Library - ECPv6.15.20//NONSGML v1.0//EN
CALSCALE:GREGORIAN
METHOD:PUBLISH
X-ORIGINAL-URL:https://bc-cl.ca
X-WR-CALDESC:Events for Champlain Library
REFRESH-INTERVAL;VALUE=DURATION:PT1H
X-Robots-Tag:noindex
X-PUBLISHED-TTL:PT1H
BEGIN:VTIMEZONE
TZID:America/Toronto
BEGIN:DAYLIGHT
TZOFFSETFROM:-0500
TZOFFSETTO:-0400
TZNAME:EDT
DTSTART:20240310T070000
END:DAYLIGHT
BEGIN:STANDARD
TZOFFSETFROM:-0400
TZOFFSETTO:-0500
TZNAME:EST
DTSTART:20241103T060000
END:STANDARD
BEGIN:DAYLIGHT
TZOFFSETFROM:-0500
TZOFFSETTO:-0400
TZNAME:EDT
DTSTART:20250309T070000
END:DAYLIGHT
BEGIN:STANDARD
TZOFFSETFROM:-0400
TZOFFSETTO:-0500
TZNAME:EST
DTSTART:20251102T060000
END:STANDARD
BEGIN:DAYLIGHT
TZOFFSETFROM:-0500
TZOFFSETTO:-0400
TZNAME:EDT
DTSTART:20260308T070000
END:DAYLIGHT
BEGIN:STANDARD
TZOFFSETFROM:-0400
TZOFFSETTO:-0500
TZNAME:EST
DTSTART:20261101T060000
END:STANDARD
END:VTIMEZONE
BEGIN:VEVENT
DTSTART;TZID=America/Toronto:20250925T100000
DTEND;TZID=America/Toronto:20250925T110000
DTSTAMP:20260423T041436
CREATED:20250821T000945Z
LAST-MODIFIED:20250821T000945Z
UID:10002219-1758794400-1758798000@bc-cl.ca
SUMMARY:EarlyOn
DESCRIPTION:EarlyOn is a program designed to support both kids 0-5 and their caregivers. Kids listen to stories\, sing songs and play games. Parents can talk\, meet people and get free advice from an early childhood professional. \nEarlyOn gathers at 10:00AM Thursday Mornings at the library but optionally you can meet them an hour earlier at 9:00AM at Mill Street Park for a nice leisurely stroll over to the library. A nice way to get a bit of exercise\, get outdoors and chat.
URL:https://bc-cl.ca/event/earlyon-7/2025-09-25/
END:VEVENT
BEGIN:VEVENT
DTSTART;TZID=America/Toronto:20250925T161500
DTEND;TZID=America/Toronto:20250925T170000
DTSTAMP:20260423T041436
CREATED:20250826T163145Z
LAST-MODIFIED:20250826T163145Z
UID:10002574-1758816900-1758819600@bc-cl.ca
SUMMARY:Chess Club
DESCRIPTION:Make Your Move! \nKids ages 7 and up are invited to join us on the fourth Thursday of the month for Chess Club! Practice your strategy\, learn new moves\, and challenge friends in a fun\, friendly environment. \nPlease register here.
URL:https://bc-cl.ca/event/chess-club-2/2025-09-25/
END:VEVENT
END:VCALENDAR