BEGIN:VCALENDAR
VERSION:2.0
PRODID:-//Champlain Library - ECPv6.15.20//NONSGML v1.0//EN
CALSCALE:GREGORIAN
METHOD:PUBLISH
X-WR-CALNAME:Champlain Library
X-ORIGINAL-URL:https://bc-cl.ca
X-WR-CALDESC:Events for Champlain Library
REFRESH-INTERVAL;VALUE=DURATION:PT1H
X-Robots-Tag:noindex
X-PUBLISHED-TTL:PT1H
BEGIN:VTIMEZONE
TZID:America/Toronto
BEGIN:DAYLIGHT
TZOFFSETFROM:-0500
TZOFFSETTO:-0400
TZNAME:EDT
DTSTART:20240310T070000
END:DAYLIGHT
BEGIN:STANDARD
TZOFFSETFROM:-0400
TZOFFSETTO:-0500
TZNAME:EST
DTSTART:20241103T060000
END:STANDARD
BEGIN:DAYLIGHT
TZOFFSETFROM:-0500
TZOFFSETTO:-0400
TZNAME:EDT
DTSTART:20250309T070000
END:DAYLIGHT
BEGIN:STANDARD
TZOFFSETFROM:-0400
TZOFFSETTO:-0500
TZNAME:EST
DTSTART:20251102T060000
END:STANDARD
BEGIN:DAYLIGHT
TZOFFSETFROM:-0500
TZOFFSETTO:-0400
TZNAME:EDT
DTSTART:20260308T070000
END:DAYLIGHT
BEGIN:STANDARD
TZOFFSETFROM:-0400
TZOFFSETTO:-0500
TZNAME:EST
DTSTART:20261101T060000
END:STANDARD
END:VTIMEZONE
BEGIN:VEVENT
DTSTART;VALUE=DATE:20250811
DTEND;VALUE=DATE:20250814
DTSTAMP:20260419T120935
CREATED:20250625T022251Z
LAST-MODIFIED:20250625T022251Z
UID:10002077-1754870400-1755129599@bc-cl.ca
SUMMARY:SRC Week 7 - Return Home!
DESCRIPTION:
URL:https://bc-cl.ca/event/src-week-7-return-home/
END:VEVENT
BEGIN:VEVENT
DTSTART;TZID=America/Toronto:20250811T103000
DTEND;TZID=America/Toronto:20250811T113000
DTSTAMP:20260419T120935
CREATED:20250710T203230Z
LAST-MODIFIED:20250710T203230Z
UID:10002184-1754908200-1754911800@bc-cl.ca
SUMMARY:Time Capsule @ Chalet-Abri
DESCRIPTION:** This special event is being held at the Chalet-Abri (772 Front Road West\, L’Orignal) \nDiscover summer fun at the library! \nAs part of the TD Summer Reading Club\, we’re hosting a wide range of free activities for kids\, including hands-on crafts\, fun games\, engaging talks\, and special events. \nEach program is a great way to learn\, create\, and connect all summer long. \nThis activity is for kids ages 5 and up. \nRegistration for this event is necessary as space is limited. To sign up\, please call us at 613-678-2216 or sign up online. The registration page will be updated weekly.
URL:https://bc-cl.ca/event/time-capsule-chalet-abri/
END:VEVENT
BEGIN:VEVENT
DTSTART;TZID=America/Toronto:20250811T160000
DTEND;TZID=America/Toronto:20250811T170000
DTSTAMP:20260419T120935
CREATED:20250710T203906Z
LAST-MODIFIED:20250710T203906Z
UID:10002186-1754928000-1754931600@bc-cl.ca
SUMMARY:Time Capsule @ Library
DESCRIPTION:Discover summer fun at the library! \nAs part of the TD Summer Reading Club\, we’re hosting a wide range of free activities for kids\, including hands-on crafts\, fun games\, engaging talks\, and special events. \nEach program is a great way to learn\, create\, and connect all summer long. \nThis activity is for kids ages 5 and up. \nRegistration for this event is necessary as space is limited. To sign up\, please call us at 613-678-2216 or sign up online. The registration page will be updated weekly.
URL:https://bc-cl.ca/event/time-capsule-library/
END:VEVENT
END:VCALENDAR